BEGIN:VCALENDAR
VERSION:2.0
PRODID:-//Rock Hill Beach Community Association - ECPv6.15.20//NONSGML v1.0//EN
CALSCALE:GREGORIAN
METHOD:PUBLISH
X-ORIGINAL-URL:https://rockhillbeach.org
X-WR-CALDESC:Events for Rock Hill Beach Community Association
REFRESH-INTERVAL;VALUE=DURATION:PT1H
X-Robots-Tag:noindex
X-PUBLISHED-TTL:PT1H
BEGIN:VTIMEZONE
TZID:UTC
BEGIN:STANDARD
TZOFFSETFROM:+0000
TZOFFSETTO:+0000
TZNAME:UTC
DTSTART:20200101T000000
END:STANDARD
END:VTIMEZONE
BEGIN:VTIMEZONE
TZID:America/New_York
BEGIN:DAYLIGHT
TZOFFSETFROM:-0500
TZOFFSETTO:-0400
TZNAME:EDT
DTSTART:20200308T070000
END:DAYLIGHT
BEGIN:STANDARD
TZOFFSETFROM:-0400
TZOFFSETTO:-0500
TZNAME:EST
DTSTART:20201101T060000
END:STANDARD
BEGIN:DAYLIGHT
TZOFFSETFROM:-0500
TZOFFSETTO:-0400
TZNAME:EDT
DTSTART:20210314T070000
END:DAYLIGHT
BEGIN:STANDARD
TZOFFSETFROM:-0400
TZOFFSETTO:-0500
TZNAME:EST
DTSTART:20211107T060000
END:STANDARD
BEGIN:DAYLIGHT
TZOFFSETFROM:-0500
TZOFFSETTO:-0400
TZNAME:EDT
DTSTART:20220313T070000
END:DAYLIGHT
BEGIN:STANDARD
TZOFFSETFROM:-0400
TZOFFSETTO:-0500
TZNAME:EST
DTSTART:20221106T060000
END:STANDARD
BEGIN:DAYLIGHT
TZOFFSETFROM:-0500
TZOFFSETTO:-0400
TZNAME:EDT
DTSTART:20230312T070000
END:DAYLIGHT
BEGIN:STANDARD
TZOFFSETFROM:-0400
TZOFFSETTO:-0500
TZNAME:EST
DTSTART:20231105T060000
END:STANDARD
END:VTIMEZONE
BEGIN:VEVENT
DTSTART;TZID=UTC:20220622T190000
DTEND;TZID=UTC:20220622T200000
DTSTAMP:20260425T132128
CREATED:20220621T155431Z
LAST-MODIFIED:20220621T155431Z
UID:43210-1655924400-1655928000@rockhillbeach.org
SUMMARY:June General Meeting
DESCRIPTION:
URL:https://rockhillbeach.org/event/june-general-meeting/
LOCATION:Valley Road Community Park\, 1209 Valley Rd\, Pasadena\, MD\, 21122\, United States
CATEGORIES:General Meetings
ATTACH;FMTTYPE=image/png:https://rockhillbeach.org/wp-content/uploads/2021/04/Rock-Hill-Logo-diamond.png
ORGANIZER;CN="Rock Hill Beach Community Association":MAILTO:info@rockhillbeach.org
END:VEVENT
BEGIN:VEVENT
DTSTART;TZID=UTC:20220525T190000
DTEND;TZID=UTC:20220525T200000
DTSTAMP:20260425T132128
CREATED:20220322T152451Z
LAST-MODIFIED:20221001T183020Z
UID:33683-1653505200-1653508800@rockhillbeach.org
SUMMARY:May '22 General Mtg
DESCRIPTION:
URL:https://rockhillbeach.org/event/may-22-general-mtg/
LOCATION:Valley Road Community Park\, 1209 Valley Rd\, Pasadena\, MD\, 21122\, United States
CATEGORIES:General Meetings
ATTACH;FMTTYPE=image/png:https://rockhillbeach.org/wp-content/uploads/2021/04/Rock-Hill-Logo-diamond.png
ORGANIZER;CN="Rock Hill Beach Community Association":MAILTO:info@rockhillbeach.org
END:VEVENT
BEGIN:VEVENT
DTSTART;TZID=UTC:20220521T120000
DTEND;TZID=UTC:20220521T150000
DTSTAMP:20260425T132128
CREATED:20220322T151223Z
LAST-MODIFIED:20220322T151329Z
UID:33645-1653134400-1653145200@rockhillbeach.org
SUMMARY:MEMORIAL DAY COOKOUT
DESCRIPTION:This year the RHBCA would like to bring our community together in remembrance of Memorial Day with a Community Cookout at our park on Valley Rd. We will provide grilled food like hamburgers and hotdogs\, and some snacks. Please feel free to bring anything else you’d like potluck style. It will also be BYOB with a special adults only cocktail while it lasts. So come early!  \nWe suggest you bring a foldout chair or blanket to sit on as well.  \nPLEASE RSVP BELOW SO WE HAVE ENOUGH FOOD FOR EVERYBODY
URL:https://rockhillbeach.org/event/memorial-day-cookout/
LOCATION:Valley Road Community Park\, 1209 Valley Rd\, Pasadena\, MD\, 21122\, United States
CATEGORIES:Special Events
ATTACH;FMTTYPE=image/png:https://rockhillbeach.org/wp-content/uploads/2022/03/My-project-5.png
ORGANIZER;CN="Rock Hill Beach Community Association":MAILTO:info@rockhillbeach.org
END:VEVENT
BEGIN:VEVENT
DTSTART;TZID=UTC:20220427T190000
DTEND;TZID=UTC:20220427T200000
DTSTAMP:20260425T132128
CREATED:20220322T152339Z
LAST-MODIFIED:20221001T183026Z
UID:33680-1651086000-1651089600@rockhillbeach.org
SUMMARY:Apr '22 General Mtg
DESCRIPTION:
URL:https://rockhillbeach.org/event/apr-22-general-mtg/
LOCATION:Valley Road Community Park\, 1209 Valley Rd\, Pasadena\, MD\, 21122\, United States
CATEGORIES:General Meetings
ATTACH;FMTTYPE=image/png:https://rockhillbeach.org/wp-content/uploads/2021/04/Rock-Hill-Logo-diamond.png
ORGANIZER;CN="Rock Hill Beach Community Association":MAILTO:info@rockhillbeach.org
END:VEVENT
BEGIN:VEVENT
DTSTART;TZID=UTC:20220416T110000
DTEND;TZID=UTC:20220416T120000
DTSTAMP:20260425T132128
CREATED:20220321T185337Z
LAST-MODIFIED:20220322T144412Z
UID:33529-1650106800-1650110400@rockhillbeach.org
SUMMARY:Community Easter Egg Hunt
DESCRIPTION:Join us for our Annual Easter Egg Hunt for our community youth. We will have eggs to find and prizes. Kids 12 and under please.
URL:https://rockhillbeach.org/event/community-easter-egg-hunt/
LOCATION:Valley Road Community Park\, 1209 Valley Rd\, Pasadena\, MD\, 21122\, United States
CATEGORIES:Special Events
ATTACH;FMTTYPE=image/png:https://rockhillbeach.org/wp-content/uploads/2022/03/Easter-2.png
ORGANIZER;CN="Rock Hill Beach Community Association":MAILTO:info@rockhillbeach.org
END:VEVENT
BEGIN:VEVENT
DTSTART;TZID=UTC:20220402T080000
DTEND;TZID=UTC:20220402T120000
DTSTAMP:20260425T132128
CREATED:20220321T183735Z
LAST-MODIFIED:20220321T184027Z
UID:33525-1648886400-1648900800@rockhillbeach.org
SUMMARY:RHBCA Community Yard Sale
DESCRIPTION:Join us for a community-wide yard sale on April 2nd. \nWe will have a community sponsored table at the Valley Rd Park where any profits will be put towards our community projects like fixing the Hillside Park bulkhead and getting new playground equipment. Please contact info@rockhillbeach.org or send us a message on Facebook (https://www.facebook.com/Rockhillbeach) if you have items you’d like to donate. 
URL:https://rockhillbeach.org/event/rhbca-community-yard-sale/
LOCATION:Valley Road Community Park\, 1209 Valley Rd\, Pasadena\, MD\, 21122\, United States
CATEGORIES:Special Events
ATTACH;FMTTYPE=image/png:https://rockhillbeach.org/wp-content/uploads/2022/03/Yard-Sale-1.png
ORGANIZER;CN="Rock Hill Beach Community Association":MAILTO:info@rockhillbeach.org
END:VEVENT
BEGIN:VEVENT
DTSTART;TZID=UTC:20220323T190000
DTEND;TZID=UTC:20220323T200000
DTSTAMP:20260425T132128
CREATED:20220321T183537Z
LAST-MODIFIED:20220322T152355Z
UID:33522-1648062000-1648065600@rockhillbeach.org
SUMMARY:Mar '22 General Meeting
DESCRIPTION:
URL:https://rockhillbeach.org/event/march-general-meeting/
LOCATION:Community United Methodist Church\, 8680 Ft Smallwood Rd\, Pasadena\, MD\, United States
CATEGORIES:General Meetings
ATTACH;FMTTYPE=image/png:https://rockhillbeach.org/wp-content/uploads/2021/04/Rock-Hill-Logo-diamond-1.png
ORGANIZER;CN="Rock Hill Beach Community Association":MAILTO:info@rockhillbeach.org
END:VEVENT
BEGIN:VEVENT
DTSTART;TZID=America/New_York:20220206T150000
DTEND;TZID=America/New_York:20220206T210000
DTSTAMP:20260425T132128
CREATED:20211129T163922Z
LAST-MODIFIED:20221208T145128Z
UID:14854-1644159600-1644181200@rockhillbeach.org
SUMMARY:RHBCA Designer Purse Bingo 2022
DESCRIPTION:Come join the Rock Hill Beach Community Association for our Inaugural Designer Purse Bingo! \nWe will have a limited number of tickets available for purchase with proceeds going to our Community Projects and Community Property upkeep like repairing the bulkhead on Hillside Rd and updating the playground equipment at the Valley Rd Community Park. \nDoors Open at 3pm\, Bingo Starts at 4pm \nTicket includes 20 bingo games and one door prize entry \nDabbers\, Extra Games\, 3 Specials\, Pull Off Boards\, and Raffle Tickets available for purchase. There will also be a Silent Auction. \nFood & Drink available for purchase and BYO Food OK \nEarly Bird Tickets are available for $20 until January 31st and can be purchased below\, from your Rock Hill Beach Road Captains\, or by sending payment with your name\, email and phone number via Venmo to @RockHillBeach. Please make sure you receive a confirmation email within 48 hours if purchasing via Venmo. If you have not received purchase confirmation\, please email president@rockhillbeach.com for confirmation. All tickets purchased via PayPal or Venmo will be available at the door. \nMust be 18 or older to play
URL:https://rockhillbeach.org/event/rhbca-designer-purse-bingo/
LOCATION:Severna Park Elks Lodge\, 160 Truck House Rd\, Severna Park\, MD\, United States
CATEGORIES:Special Events
ATTACH;FMTTYPE=image/png:https://rockhillbeach.org/wp-content/uploads/2021/11/purse-bingo-square.png
ORGANIZER;CN="Rock Hill Beach Community Association":MAILTO:info@rockhillbeach.org
END:VEVENT
BEGIN:VEVENT
DTSTART;TZID=America/New_York:20210825T190000
DTEND;TZID=America/New_York:20210825T203000
DTSTAMP:20260425T132128
CREATED:20210728T205600Z
LAST-MODIFIED:20210728T205609Z
UID:9615-1629918000-1629923400@rockhillbeach.org
SUMMARY:Aug '21 General Meeting
DESCRIPTION:Our August General Meeting will be Wednesday August 25th at 7pm. Location will be at the Valley Rd Park but is subject to change depending on weather.
URL:https://rockhillbeach.org/event/aug-21-general-meeting/
LOCATION:Valley Road Community Park\, 1209 Valley Rd\, Pasadena\, MD\, 21122\, United States
CATEGORIES:General Meetings
ATTACH;FMTTYPE=image/png:https://rockhillbeach.org/wp-content/uploads/2019/08/Rock-Hill-Logo.png
ORGANIZER;CN="Rock Hill Beach Community Association":MAILTO:info@rockhillbeach.org
END:VEVENT
BEGIN:VEVENT
DTSTART;TZID=America/New_York:20210728T190000
DTEND;TZID=America/New_York:20210728T200000
DTSTAMP:20260425T132128
CREATED:20210628T161932Z
LAST-MODIFIED:20210628T161933Z
UID:8639-1627498800-1627502400@rockhillbeach.org
SUMMARY:July '21 General Meeting
DESCRIPTION:Our July General Meeting will be Wednesday July 28th at 7pm. Location will be at the Valley Rd Park but is subject to change depending on weather.
URL:https://rockhillbeach.org/event/july-21-general-meeting/
LOCATION:Valley Road Community Park\, 1209 Valley Rd\, Pasadena\, MD\, 21122\, United States
CATEGORIES:General Meetings
ATTACH;FMTTYPE=image/png:https://rockhillbeach.org/wp-content/uploads/2019/08/Rock-Hill-Logo.png
ORGANIZER;CN="Rock Hill Beach Community Association":MAILTO:info@rockhillbeach.org
END:VEVENT
BEGIN:VEVENT
DTSTART;TZID=America/New_York:20210627T110000
DTEND;TZID=America/New_York:20210627T170000
DTSTAMP:20260425T132128
CREATED:20210603T202528Z
LAST-MODIFIED:20210626T102246Z
UID:7532-1624791600-1624813200@rockhillbeach.org
SUMMARY:Summer Fest Inaugural Cornhole Tournament
DESCRIPTION:1ST PLACE – $150 prize\n2ND PLACE – $50 prize \nSign up for your spot in the Rock Hill Beach Annual Cornhole Tournament \n\nBracket of 16 (another bracket will be added if needed)\n2 person teams\n$40 registration per team ($20/person)\nDouble Elimination\nACH Backyard Rules\n\n**To guarantee your spot\, please Venmo the $40 team fee to @RockHillBeach (Patricia Pearson) with your team name \n  \n 
URL:https://rockhillbeach.org/event/cornhole/
LOCATION:Valley Road Community Park\, 1209 Valley Rd\, Pasadena\, MD\, 21122\, United States
CATEGORIES:Special Events
ATTACH;FMTTYPE=image/png:https://rockhillbeach.org/wp-content/uploads/2021/06/Cornhole-Tournament-copy.png
ORGANIZER;CN="Rock Hill Beach Community Association":MAILTO:info@rockhillbeach.org
END:VEVENT
BEGIN:VEVENT
DTSTART;TZID=America/New_York:20210627T100000
DTEND;TZID=America/New_York:20210627T150000
DTSTAMP:20260425T132128
CREATED:20210527T202016Z
LAST-MODIFIED:20210527T202743Z
UID:7128-1624788000-1624806000@rockhillbeach.org
SUMMARY:Rock Hill Beach Summer Fest
DESCRIPTION:Join us on Sunday June 27th for the Rock Hill Beach Summer Fest featuring live music by Left Turn Clyde.
URL:https://rockhillbeach.org/event/rock-hill-beach-summer-fest/
LOCATION:Valley Road Community Park\, 1209 Valley Rd\, Pasadena\, MD\, 21122\, United States
CATEGORIES:Special Events
ATTACH;FMTTYPE=image/png:https://rockhillbeach.org/wp-content/uploads/2021/05/Summer-Fest-Header-1.png
ORGANIZER;CN="Rock Hill Beach Community Association":MAILTO:info@rockhillbeach.org
END:VEVENT
BEGIN:VEVENT
DTSTART;TZID=America/New_York:20210623T190000
DTEND;TZID=America/New_York:20210623T200000
DTSTAMP:20260425T132128
CREATED:20210526T213938Z
LAST-MODIFIED:20210526T213939Z
UID:7076-1624474800-1624478400@rockhillbeach.org
SUMMARY:June '21 General Meeting
DESCRIPTION:
URL:https://rockhillbeach.org/event/june-21-general-meeting/
LOCATION:Valley Road Community Park\, 1209 Valley Rd\, Pasadena\, MD\, 21122\, United States
CATEGORIES:General Meetings
ATTACH;FMTTYPE=image/png:https://rockhillbeach.org/wp-content/uploads/2021/04/Rock-Hill-Logo-diamond-1.png
END:VEVENT
BEGIN:VEVENT
DTSTART;VALUE=DATE:20210531
DTEND;VALUE=DATE:20210601
DTSTAMP:20260425T132128
CREATED:20210419T182755Z
LAST-MODIFIED:20210419T182755Z
UID:5533-1622419200-1622505599@rockhillbeach.org
SUMMARY:Memorial Day
DESCRIPTION:
URL:https://rockhillbeach.org/event/memorial-day/
LOCATION:MD
CATEGORIES:National Holidays
END:VEVENT
BEGIN:VEVENT
DTSTART;TZID=America/New_York:20210526T190000
DTEND;TZID=America/New_York:20210526T200000
DTSTAMP:20260425T132128
CREATED:20210419T184224Z
LAST-MODIFIED:20210526T213827Z
UID:5541-1622055600-1622059200@rockhillbeach.org
SUMMARY:May '21 General Meeting
DESCRIPTION:Tentative location Valley Rd Park
URL:https://rockhillbeach.org/event/may-21-general-meeting/
LOCATION:MD
CATEGORIES:General Meetings
ATTACH;FMTTYPE=image/png:https://rockhillbeach.org/wp-content/uploads/2021/04/Rock-Hill-Logo-diamond-1.png
END:VEVENT
BEGIN:VEVENT
DTSTART;TZID=America/New_York:20210522T080000
DTEND;TZID=America/New_York:20210522T120000
DTSTAMP:20260425T132128
CREATED:20210419T183958Z
LAST-MODIFIED:20210513T154550Z
UID:5537-1621670400-1621684800@rockhillbeach.org
SUMMARY:May '21 Community Yard Sale
DESCRIPTION:FOR RESIDENTS: Please feel free to setup tables at the park or at your home. We just ask that you kindly donate a portion of your proceeds to the RHBCA to help offset yard sale advertising costs and community expenses. If you don’t want to participate but have items you can donate for our community table\, please send us an email at info@rockhillbeach.org and we will organize getting those items from you. \nPUBLIC PARTICIPANTS: We welcome all outside vendors to set up a table at our community park on Valley Rd. for a $20 donation to the Community Association. Please email info@rockhillbeach.org for info and registration.
URL:https://rockhillbeach.org/event/community-yard-sale/
LOCATION:Valley Road Community Park\, 1209 Valley Rd\, Pasadena\, MD\, 21122\, United States
CATEGORIES:Special Events
ATTACH;FMTTYPE=image/png:https://rockhillbeach.org/wp-content/uploads/2021/04/May-21-Yard-Sale-e1620920536279.png
END:VEVENT
BEGIN:VEVENT
DTSTART;VALUE=DATE:20210509
DTEND;VALUE=DATE:20210510
DTSTAMP:20260425T132128
CREATED:20210419T182714Z
LAST-MODIFIED:20210419T182714Z
UID:5531-1620518400-1620604799@rockhillbeach.org
SUMMARY:Mother's Day
DESCRIPTION:
URL:https://rockhillbeach.org/event/mothers-day/
LOCATION:MD
CATEGORIES:National Holidays
END:VEVENT
BEGIN:VEVENT
DTSTART;TZID=UTC:20210428T190000
DTEND;TZID=UTC:20210428T200000
DTSTAMP:20260425T132128
CREATED:20210419T231950Z
LAST-MODIFIED:20210419T184104Z
UID:5524-1619636400-1619640000@rockhillbeach.org
SUMMARY:April '21 General Meeting
DESCRIPTION:We will be meeting outside at the Valley Rd Park this month for our normal general meeting\, weather pending. If you still need a Zoom link setup\, please email Jessica at president@rockhillbeach.org. If the weather is not cooperating\, a Zoom link will be posted on the RHBCA Facebook group and emailed to our member list. If you do not receive our emails yet\, please signup on our Contact Us page or at the bottom of our website homepage. \nWe look forward to seeing you!
URL:https://rockhillbeach.org/event/april-21-general-meeting/
LOCATION:MD
CATEGORIES:General Meetings
ATTACH;FMTTYPE=image/png:https://rockhillbeach.org/wp-content/uploads/2021/04/Rock-Hill-Logo-diamond-1.png
END:VEVENT
BEGIN:VEVENT
DTSTART;VALUE=DATE:20210422
DTEND;VALUE=DATE:20210423
DTSTAMP:20260425T132128
CREATED:20210419T182627Z
LAST-MODIFIED:20210419T182627Z
UID:5529-1619049600-1619135999@rockhillbeach.org
SUMMARY:Earth Day
DESCRIPTION:
URL:https://rockhillbeach.org/event/earth-day/
LOCATION:MD
CATEGORIES:National Holidays
END:VEVENT
BEGIN:VEVENT
DTSTART;TZID=UTC:20210418T110000
DTEND;TZID=UTC:20210418T130000
DTSTAMP:20260425T132128
CREATED:20210419T231536Z
LAST-MODIFIED:20210419T182343Z
UID:5522-1618743600-1618750800@rockhillbeach.org
SUMMARY:Earth Day Cleanup
DESCRIPTION:We will be meeting at the Valley Rd Park at 11 am on Sunday April 18th for a community cleanup in honor of Earth Day coming up. Please bring your own pair of gloves and a trashbag.
URL:https://rockhillbeach.org/event/earth-day-cleanup/
LOCATION:Valley Road Community Park\, 1209 Valley Rd\, Pasadena\, MD\, 21122\, United States
CATEGORIES:Special Events
ATTACH;FMTTYPE=image/png:https://rockhillbeach.org/wp-content/uploads/2021/04/My-Post-23.png
END:VEVENT
BEGIN:VEVENT
DTSTART;TZID=UTC:20210403T130000
DTEND;TZID=UTC:20210403T140000
DTSTAMP:20260425T132128
CREATED:20210419T230826Z
LAST-MODIFIED:20210419T182409Z
UID:5517-1617454800-1617458400@rockhillbeach.org
SUMMARY:RHBCA Annual Easter Egg Hunt
DESCRIPTION:Join us for our Annual Easter Egg Hunt on Saturday April 19th at 1pm at the Valley Rd Park. All kiddos in the community are welcome to participate\, but please RSVP to president@rockhillbeach.org so that we make sure to have enough eggs for everyone\, and please bring your own basket. \nThere will be special prizes for anybody who finds the extra large gold or silver eggs!!
URL:https://rockhillbeach.org/event/annual-easter-egg-hunt/
LOCATION:Valley Road Community Park\, 1209 Valley Rd\, Pasadena\, MD\, 21122\, United States
CATEGORIES:Special Events
ATTACH;FMTTYPE=image/jpeg:https://rockhillbeach.org/wp-content/uploads/2021/04/Easter-Eggs-e1618859296649.jpeg
END:VEVENT
END:VCALENDAR